BEGIN:VCALENDAR
VERSION:2.0
PRODID:-//Senica&rsquo;s Oak Ridge Golf Club - ECPv6.15.20//NONSGML v1.0//EN
CALSCALE:GREGORIAN
METHOD:PUBLISH
X-ORIGINAL-URL:https://www.senicagolf.com
X-WR-CALDESC:Events for Senica&rsquo;s Oak Ridge Golf Club
REFRESH-INTERVAL;VALUE=DURATION:PT1H
X-Robots-Tag:noindex
X-PUBLISHED-TTL:PT1H
BEGIN:VTIMEZONE
TZID:America/Toronto
BEGIN:DAYLIGHT
TZOFFSETFROM:-0500
TZOFFSETTO:-0400
TZNAME:EDT
DTSTART:20250309T070000
END:DAYLIGHT
BEGIN:STANDARD
TZOFFSETFROM:-0400
TZOFFSETTO:-0500
TZNAME:EST
DTSTART:20251102T060000
END:STANDARD
BEGIN:DAYLIGHT
TZOFFSETFROM:-0500
TZOFFSETTO:-0400
TZNAME:EDT
DTSTART:20260308T070000
END:DAYLIGHT
BEGIN:STANDARD
TZOFFSETFROM:-0400
TZOFFSETTO:-0500
TZNAME:EST
DTSTART:20261101T060000
END:STANDARD
BEGIN:DAYLIGHT
TZOFFSETFROM:-0500
TZOFFSETTO:-0400
TZNAME:EDT
DTSTART:20270314T070000
END:DAYLIGHT
BEGIN:STANDARD
TZOFFSETFROM:-0400
TZOFFSETTO:-0500
TZNAME:EST
DTSTART:20271107T060000
END:STANDARD
END:VTIMEZONE
BEGIN:VEVENT
DTSTART;TZID=America/Toronto:20260703T160000
DTEND;TZID=America/Toronto:20260703T200000
DTSTAMP:20260419T193536
CREATED:20240716T141700Z
LAST-MODIFIED:20240716T141922Z
UID:10001038-1783094400-1783108800@www.senicagolf.com
SUMMARY:Happy Hour
DESCRIPTION:
URL:https://www.senicagolf.com/event/happy-hour/2026-07-03/
END:VEVENT
BEGIN:VEVENT
DTSTART;TZID=America/Toronto:20260710T160000
DTEND;TZID=America/Toronto:20260710T200000
DTSTAMP:20260419T193537
CREATED:20240716T141700Z
LAST-MODIFIED:20240716T141922Z
UID:10001039-1783699200-1783713600@www.senicagolf.com
SUMMARY:Happy Hour
DESCRIPTION:
URL:https://www.senicagolf.com/event/happy-hour/2026-07-10/
END:VEVENT
BEGIN:VEVENT
DTSTART;TZID=America/Toronto:20260717T160000
DTEND;TZID=America/Toronto:20260717T200000
DTSTAMP:20260419T193537
CREATED:20240716T141700Z
LAST-MODIFIED:20240716T141922Z
UID:10001040-1784304000-1784318400@www.senicagolf.com
SUMMARY:Happy Hour
DESCRIPTION:
URL:https://www.senicagolf.com/event/happy-hour/2026-07-17/
END:VEVENT
BEGIN:VEVENT
DTSTART;TZID=America/Toronto:20260724T160000
DTEND;TZID=America/Toronto:20260724T200000
DTSTAMP:20260419T193537
CREATED:20240716T141700Z
LAST-MODIFIED:20240716T141922Z
UID:10001041-1784908800-1784923200@www.senicagolf.com
SUMMARY:Happy Hour
DESCRIPTION:
URL:https://www.senicagolf.com/event/happy-hour/2026-07-24/
END:VEVENT
BEGIN:VEVENT
DTSTART;TZID=America/Toronto:20260731T160000
DTEND;TZID=America/Toronto:20260731T200000
DTSTAMP:20260419T193537
CREATED:20240716T141700Z
LAST-MODIFIED:20240716T141922Z
UID:10001042-1785513600-1785528000@www.senicagolf.com
SUMMARY:Happy Hour
DESCRIPTION:
URL:https://www.senicagolf.com/event/happy-hour/2026-07-31/
END:VEVENT
END:VCALENDAR