BEGIN:VCALENDAR
VERSION:2.0
PRODID:-//Senica&rsquo;s Oak Ridge Golf Club - ECPv6.15.20//NONSGML v1.0//EN
CALSCALE:GREGORIAN
METHOD:PUBLISH
X-WR-CALNAME:Senica&rsquo;s Oak Ridge Golf Club
X-ORIGINAL-URL:https://www.senicagolf.com
X-WR-CALDESC:Events for Senica&rsquo;s Oak Ridge Golf Club
REFRESH-INTERVAL;VALUE=DURATION:PT1H
X-Robots-Tag:noindex
X-PUBLISHED-TTL:PT1H
BEGIN:VTIMEZONE
TZID:America/Toronto
BEGIN:DAYLIGHT
TZOFFSETFROM:-0500
TZOFFSETTO:-0400
TZNAME:EDT
DTSTART:20170312T070000
END:DAYLIGHT
BEGIN:STANDARD
TZOFFSETFROM:-0400
TZOFFSETTO:-0500
TZNAME:EST
DTSTART:20171105T060000
END:STANDARD
BEGIN:DAYLIGHT
TZOFFSETFROM:-0500
TZOFFSETTO:-0400
TZNAME:EDT
DTSTART:20180311T070000
END:DAYLIGHT
BEGIN:STANDARD
TZOFFSETFROM:-0400
TZOFFSETTO:-0500
TZNAME:EST
DTSTART:20181104T060000
END:STANDARD
BEGIN:DAYLIGHT
TZOFFSETFROM:-0500
TZOFFSETTO:-0400
TZNAME:EDT
DTSTART:20190310T070000
END:DAYLIGHT
BEGIN:STANDARD
TZOFFSETFROM:-0400
TZOFFSETTO:-0500
TZNAME:EST
DTSTART:20191103T060000
END:STANDARD
BEGIN:DAYLIGHT
TZOFFSETFROM:-0500
TZOFFSETTO:-0400
TZNAME:EDT
DTSTART:20200308T070000
END:DAYLIGHT
BEGIN:STANDARD
TZOFFSETFROM:-0400
TZOFFSETTO:-0500
TZNAME:EST
DTSTART:20201101T060000
END:STANDARD
END:VTIMEZONE
BEGIN:VTIMEZONE
TZID:America/Chicago
BEGIN:DAYLIGHT
TZOFFSETFROM:-0600
TZOFFSETTO:-0500
TZNAME:CDT
DTSTART:20180311T080000
END:DAYLIGHT
BEGIN:STANDARD
TZOFFSETFROM:-0500
TZOFFSETTO:-0600
TZNAME:CST
DTSTART:20181104T070000
END:STANDARD
BEGIN:DAYLIGHT
TZOFFSETFROM:-0600
TZOFFSETTO:-0500
TZNAME:CDT
DTSTART:20190310T080000
END:DAYLIGHT
BEGIN:STANDARD
TZOFFSETFROM:-0500
TZOFFSETTO:-0600
TZNAME:CST
DTSTART:20191103T070000
END:STANDARD
BEGIN:DAYLIGHT
TZOFFSETFROM:-0600
TZOFFSETTO:-0500
TZNAME:CDT
DTSTART:20200308T080000
END:DAYLIGHT
BEGIN:STANDARD
TZOFFSETFROM:-0500
TZOFFSETTO:-0600
TZNAME:CST
DTSTART:20201101T070000
END:STANDARD
END:VTIMEZONE
BEGIN:VEVENT
DTSTART;VALUE=DATE:20190817
DTEND;VALUE=DATE:20190818
DTSTAMP:20260419T150107
CREATED:20190410T194344Z
LAST-MODIFIED:20190410T194344Z
UID:10000447-1566000000-1566086399@www.senicagolf.com
SUMMARY:Templeton Outing
DESCRIPTION:
URL:https://www.senicagolf.com/event/templeton-outing/
CATEGORIES:Deer Park
END:VEVENT
BEGIN:VEVENT
DTSTART;VALUE=DATE:20190810
DTEND;VALUE=DATE:20190812
DTSTAMP:20260419T150107
CREATED:20190729T175541Z
LAST-MODIFIED:20190729T175541Z
UID:10000455-1565395200-1565567999@www.senicagolf.com
SUMMARY:Club Championship
DESCRIPTION:August 10th @ Oak Ridge \nAugust 11th @ Deer Park \nMEMBERS ONLY
URL:https://www.senicagolf.com/event/club-championship/
CATEGORIES:Deer Park,Oak Ridge
END:VEVENT
BEGIN:VEVENT
DTSTART;VALUE=DATE:20190809
DTEND;VALUE=DATE:20190810
DTSTAMP:20260419T150107
CREATED:20190410T194239Z
LAST-MODIFIED:20190410T194239Z
UID:10000446-1565308800-1565395199@www.senicagolf.com
SUMMARY:Contractors Outing
DESCRIPTION:
URL:https://www.senicagolf.com/event/contractors-outing/
CATEGORIES:Deer Park
END:VEVENT
BEGIN:VEVENT
DTSTART;VALUE=DATE:20190803
DTEND;VALUE=DATE:20190804
DTSTAMP:20260419T150107
CREATED:20190410T193037Z
LAST-MODIFIED:20190410T193037Z
UID:10000321-1564790400-1564876799@www.senicagolf.com
SUMMARY:Lions Club Outing
DESCRIPTION:
URL:https://www.senicagolf.com/event/lions-club-outing/
CATEGORIES:Oak Ridge
END:VEVENT
BEGIN:VEVENT
DTSTART;VALUE=DATE:20190731
DTEND;VALUE=DATE:20190802
DTSTAMP:20260419T150107
CREATED:20190410T194155Z
LAST-MODIFIED:20190410T194311Z
UID:10000445-1564531200-1564703999@www.senicagolf.com
SUMMARY:FPCU Outing
DESCRIPTION:
URL:https://www.senicagolf.com/event/fpcu-outing/
CATEGORIES:Deer Park
END:VEVENT
BEGIN:VEVENT
DTSTART;VALUE=DATE:20190728
DTEND;VALUE=DATE:20190729
DTSTAMP:20260419T150107
CREATED:20190410T193001Z
LAST-MODIFIED:20190410T193001Z
UID:10000320-1564272000-1564358399@www.senicagolf.com
SUMMARY:Iv Men's Championship Final
DESCRIPTION:
URL:https://www.senicagolf.com/event/iv-mens-championship-final/
CATEGORIES:Oak Ridge
END:VEVENT
BEGIN:VEVENT
DTSTART;VALUE=DATE:20190727
DTEND;VALUE=DATE:20190728
DTSTAMP:20260419T150107
CREATED:20190410T194122Z
LAST-MODIFIED:20190410T194122Z
UID:10000444-1564185600-1564271999@www.senicagolf.com
SUMMARY:Knights of Columbus Outing
DESCRIPTION:
URL:https://www.senicagolf.com/event/knights-of-columbus-outing/
CATEGORIES:Deer Park
END:VEVENT
BEGIN:VEVENT
DTSTART;VALUE=DATE:20190725
DTEND;VALUE=DATE:20190726
DTSTAMP:20260419T150107
CREATED:20190410T192904Z
LAST-MODIFIED:20190410T192904Z
UID:10000319-1564012800-1564099199@www.senicagolf.com
SUMMARY:IL Fertilizer Outing
DESCRIPTION:
URL:https://www.senicagolf.com/event/il-fertilizer-outing/
CATEGORIES:Oak Ridge
END:VEVENT
BEGIN:VEVENT
DTSTART;VALUE=DATE:20190722
DTEND;VALUE=DATE:20190723
DTSTAMP:20260419T150107
CREATED:20190410T192819Z
LAST-MODIFIED:20190410T192819Z
UID:10000318-1563753600-1563839999@www.senicagolf.com
SUMMARY:Ag Leadership Outing
DESCRIPTION:
URL:https://www.senicagolf.com/event/ag-leadership-outing-2/
CATEGORIES:Oak Ridge
END:VEVENT
BEGIN:VEVENT
DTSTART;VALUE=DATE:20190719
DTEND;VALUE=DATE:20190720
DTSTAMP:20260419T150107
CREATED:20190410T194044Z
LAST-MODIFIED:20190410T194044Z
UID:10000443-1563494400-1563580799@www.senicagolf.com
SUMMARY:Jewel Osco Outing
DESCRIPTION:
URL:https://www.senicagolf.com/event/jewel-osco-outing/
CATEGORIES:Deer Park
END:VEVENT
BEGIN:VEVENT
DTSTART;VALUE=DATE:20190714
DTEND;VALUE=DATE:20190715
DTSTAMP:20260419T150107
CREATED:20190410T194000Z
LAST-MODIFIED:20190410T194000Z
UID:10000442-1563062400-1563148799@www.senicagolf.com
SUMMARY:Jimmy D Outing
DESCRIPTION:
URL:https://www.senicagolf.com/event/jimmy-d-outing/
CATEGORIES:Deer Park
END:VEVENT
BEGIN:VEVENT
DTSTART;VALUE=DATE:20190712
DTEND;VALUE=DATE:20190713
DTSTAMP:20260419T150107
CREATED:20190410T192744Z
LAST-MODIFIED:20190410T192744Z
UID:10000317-1562889600-1562975999@www.senicagolf.com
SUMMARY:ABC Supply Outing
DESCRIPTION:
URL:https://www.senicagolf.com/event/abc-supply-outing/
CATEGORIES:Oak Ridge
END:VEVENT
BEGIN:VEVENT
DTSTART;VALUE=DATE:20190711
DTEND;VALUE=DATE:20190712
DTSTAMP:20260419T150107
CREATED:20190410T193929Z
LAST-MODIFIED:20190410T193929Z
UID:10000441-1562803200-1562889599@www.senicagolf.com
SUMMARY:Mayor Harl Outing
DESCRIPTION:
URL:https://www.senicagolf.com/event/mayor-harl-outing/
CATEGORIES:Deer Park
END:VEVENT
BEGIN:VEVENT
DTSTART;VALUE=DATE:20190628
DTEND;VALUE=DATE:20190629
DTSTAMP:20260419T150107
CREATED:20190410T192658Z
LAST-MODIFIED:20190410T192658Z
UID:10000433-1561680000-1561766399@www.senicagolf.com
SUMMARY:Ag in the Class Outing
DESCRIPTION:
URL:https://www.senicagolf.com/event/ag-in-the-class-outing/
CATEGORIES:Oak Ridge
END:VEVENT
BEGIN:VEVENT
DTSTART;VALUE=DATE:20190622
DTEND;VALUE=DATE:20190623
DTSTAMP:20260419T150107
CREATED:20190410T193853Z
LAST-MODIFIED:20190410T193853Z
UID:10000440-1561161600-1561247999@www.senicagolf.com
SUMMARY:Lp Endzone Outing
DESCRIPTION:
URL:https://www.senicagolf.com/event/lp-endzone-outing/
CATEGORIES:Deer Park
END:VEVENT
BEGIN:VEVENT
DTSTART;VALUE=DATE:20190612
DTEND;VALUE=DATE:20190613
DTSTAMP:20260419T150107
CREATED:20190410T193821Z
LAST-MODIFIED:20190410T193821Z
UID:10000439-1560297600-1560383999@www.senicagolf.com
SUMMARY:Roe Outing
DESCRIPTION:
URL:https://www.senicagolf.com/event/roe-outing-2/
CATEGORIES:Deer Park
END:VEVENT
BEGIN:VEVENT
DTSTART;VALUE=DATE:20190608
DTEND;VALUE=DATE:20190609
DTSTAMP:20260419T150107
CREATED:20190410T193750Z
LAST-MODIFIED:20190410T193750Z
UID:10000438-1559952000-1560038399@www.senicagolf.com
SUMMARY:Peru City Outing
DESCRIPTION:
URL:https://www.senicagolf.com/event/peru-city-outing/
CATEGORIES:Deer Park
END:VEVENT
BEGIN:VEVENT
DTSTART;VALUE=DATE:20190608
DTEND;VALUE=DATE:20190609
DTSTAMP:20260419T150107
CREATED:20190410T192627Z
LAST-MODIFIED:20190410T192627Z
UID:10000431-1559952000-1560038399@www.senicagolf.com
SUMMARY:Idot Outing
DESCRIPTION:
URL:https://www.senicagolf.com/event/idot-outing/
CATEGORIES:Oak Ridge
END:VEVENT
BEGIN:VEVENT
DTSTART;VALUE=DATE:20190607
DTEND;VALUE=DATE:20190608
DTSTAMP:20260419T150107
CREATED:20190410T192441Z
LAST-MODIFIED:20190410T192456Z
UID:10000429-1559865600-1559951999@www.senicagolf.com
SUMMARY:Pet Smart Outing
DESCRIPTION:
URL:https://www.senicagolf.com/event/pet-smart-outing/
CATEGORIES:Oak Ridge
END:VEVENT
BEGIN:VEVENT
DTSTART;VALUE=DATE:20190606
DTEND;VALUE=DATE:20190607
DTSTAMP:20260419T150107
CREATED:20190410T192407Z
LAST-MODIFIED:20190410T193455Z
UID:10000427-1559779200-1559865599@www.senicagolf.com
SUMMARY:Ivac
DESCRIPTION:
URL:https://www.senicagolf.com/event/ivac/
CATEGORIES:Oak Ridge
END:VEVENT
BEGIN:VEVENT
DTSTART;VALUE=DATE:20190601
DTEND;VALUE=DATE:20190602
DTSTAMP:20260419T150107
CREATED:20190410T192328Z
LAST-MODIFIED:20190410T192328Z
UID:10000415-1559347200-1559433599@www.senicagolf.com
SUMMARY:Peru Fire Outing
DESCRIPTION:
URL:https://www.senicagolf.com/event/peru-fire-outing/
CATEGORIES:Oak Ridge
END:VEVENT
BEGIN:VEVENT
DTSTART;VALUE=DATE:20190530
DTEND;VALUE=DATE:20190531
DTSTAMP:20260419T150107
CREATED:20190410T193715Z
LAST-MODIFIED:20190410T193715Z
UID:10000437-1559174400-1559260799@www.senicagolf.com
SUMMARY:State Troopers Outing
DESCRIPTION:
URL:https://www.senicagolf.com/event/state-troopers-outing/
CATEGORIES:Deer Park
END:VEVENT
BEGIN:VEVENT
DTSTART;VALUE=DATE:20190526
DTEND;VALUE=DATE:20190527
DTSTAMP:20260419T150107
CREATED:20190410T192246Z
LAST-MODIFIED:20190410T192246Z
UID:10000414-1558828800-1558915199@www.senicagolf.com
SUMMARY:Dooley Outing
DESCRIPTION:
URL:https://www.senicagolf.com/event/dooley-outing/
CATEGORIES:Oak Ridge
END:VEVENT
BEGIN:VEVENT
DTSTART;VALUE=DATE:20190518
DTEND;VALUE=DATE:20190519
DTSTAMP:20260419T150107
CREATED:20190410T192203Z
LAST-MODIFIED:20190410T192203Z
UID:10000403-1558137600-1558223999@www.senicagolf.com
SUMMARY:Relay For Life
DESCRIPTION:
URL:https://www.senicagolf.com/event/relay-for-life/
CATEGORIES:Oak Ridge
END:VEVENT
BEGIN:VEVENT
DTSTART;TZID=America/Toronto:20190513T080000
DTEND;TZID=America/Toronto:20190513T120000
DTSTAMP:20260419T150107
CREATED:20190410T193642Z
LAST-MODIFIED:20190410T193642Z
UID:10000436-1557734400-1557748800@www.senicagolf.com
SUMMARY:Southern Sr
DESCRIPTION:
URL:https://www.senicagolf.com/event/southern-sr-3/
CATEGORIES:Deer Park
END:VEVENT
BEGIN:VEVENT
DTSTART;TZID=America/Toronto:20190429T080000
DTEND;TZID=America/Toronto:20190429T120000
DTSTAMP:20260419T150107
CREATED:20190410T192122Z
LAST-MODIFIED:20190410T192122Z
UID:10000402-1556524800-1556539200@www.senicagolf.com
SUMMARY:Southern Sr.
DESCRIPTION:
URL:https://www.senicagolf.com/event/southern-sr/
CATEGORIES:Oak Ridge
END:VEVENT
BEGIN:VEVENT
DTSTART;VALUE=DATE:20190424
DTEND;VALUE=DATE:20190425
DTSTAMP:20260419T150107
CREATED:20190410T191858Z
LAST-MODIFIED:20190410T193527Z
UID:10000401-1556064000-1556150399@www.senicagolf.com
SUMMARY:Ivcc
DESCRIPTION:Morning/Afternoon Matches
URL:https://www.senicagolf.com/event/ivcc-3/
CATEGORIES:Oak Ridge
END:VEVENT
BEGIN:VEVENT
DTSTART;TZID=America/Chicago:20190416T133000
DTEND;TZID=America/Chicago:20190416T170000
DTSTAMP:20260419T150107
CREATED:20190410T191752Z
LAST-MODIFIED:20190410T193556Z
UID:10000400-1555421400-1555434000@www.senicagolf.com
SUMMARY:Ivcc
DESCRIPTION:
URL:https://www.senicagolf.com/event/ivcc-2/
CATEGORIES:Oak Ridge
END:VEVENT
BEGIN:VEVENT
DTSTART;VALUE=DATE:20181004
DTEND;VALUE=DATE:20181007
DTSTAMP:20260419T150107
CREATED:20180408T081817Z
LAST-MODIFIED:20180509T145631Z
UID:10000377-1538611200-1538870399@www.senicagolf.com
SUMMARY:Region IV-Oak Ridge
DESCRIPTION:The course will be Closed all day for the Region IV.
URL:https://www.senicagolf.com/event/region-iv/
LOCATION:Senica’s Oak Ridge
END:VEVENT
BEGIN:VEVENT
DTSTART;VALUE=DATE:20180929
DTEND;VALUE=DATE:20180930
DTSTAMP:20260419T150107
CREATED:20180408T081747Z
LAST-MODIFIED:20180509T145546Z
UID:10000296-1538179200-1538265599@www.senicagolf.com
SUMMARY:LP Boys Invite
DESCRIPTION:Course will be closed all day for the LP Invite.
URL:https://www.senicagolf.com/event/lp-boys-invite/
END:VEVENT
END:VCALENDAR