BEGIN:VCALENDAR
VERSION:2.0
PRODID:-//Senica&rsquo;s Oak Ridge Golf Club - ECPv6.15.20//NONSGML v1.0//EN
CALSCALE:GREGORIAN
METHOD:PUBLISH
X-WR-CALNAME:Senica&rsquo;s Oak Ridge Golf Club
X-ORIGINAL-URL:https://www.senicagolf.com
X-WR-CALDESC:Events for Senica&rsquo;s Oak Ridge Golf Club
REFRESH-INTERVAL;VALUE=DURATION:PT1H
X-Robots-Tag:noindex
X-PUBLISHED-TTL:PT1H
BEGIN:VTIMEZONE
TZID:America/Toronto
BEGIN:DAYLIGHT
TZOFFSETFROM:-0500
TZOFFSETTO:-0400
TZNAME:EDT
DTSTART:20180311T070000
END:DAYLIGHT
BEGIN:STANDARD
TZOFFSETFROM:-0400
TZOFFSETTO:-0500
TZNAME:EST
DTSTART:20181104T060000
END:STANDARD
BEGIN:DAYLIGHT
TZOFFSETFROM:-0500
TZOFFSETTO:-0400
TZNAME:EDT
DTSTART:20190310T070000
END:DAYLIGHT
BEGIN:STANDARD
TZOFFSETFROM:-0400
TZOFFSETTO:-0500
TZNAME:EST
DTSTART:20191103T060000
END:STANDARD
BEGIN:DAYLIGHT
TZOFFSETFROM:-0500
TZOFFSETTO:-0400
TZNAME:EDT
DTSTART:20200308T070000
END:DAYLIGHT
BEGIN:STANDARD
TZOFFSETFROM:-0400
TZOFFSETTO:-0500
TZNAME:EST
DTSTART:20201101T060000
END:STANDARD
BEGIN:DAYLIGHT
TZOFFSETFROM:-0500
TZOFFSETTO:-0400
TZNAME:EDT
DTSTART:20210314T070000
END:DAYLIGHT
BEGIN:STANDARD
TZOFFSETFROM:-0400
TZOFFSETTO:-0500
TZNAME:EST
DTSTART:20211107T060000
END:STANDARD
BEGIN:DAYLIGHT
TZOFFSETFROM:-0500
TZOFFSETTO:-0400
TZNAME:EDT
DTSTART:20220313T070000
END:DAYLIGHT
BEGIN:STANDARD
TZOFFSETFROM:-0400
TZOFFSETTO:-0500
TZNAME:EST
DTSTART:20221106T060000
END:STANDARD
END:VTIMEZONE
BEGIN:VEVENT
DTSTART;TZID=America/Toronto:20210604T120000
DTEND;TZID=America/Toronto:20210604T160000
DTSTAMP:20260419T090125
CREATED:20210511T181626Z
LAST-MODIFIED:20210511T181707Z
UID:10000478-1622808000-1622822400@www.senicagolf.com
SUMMARY:Petsmart*
DESCRIPTION:12pm Shotgun \n*Shotgun – Tee Times available before or after event depending on start time
URL:https://www.senicagolf.com/event/petsmart-2/
LOCATION:Senica’s Oak Ridge
CATEGORIES:Oak Ridge
ATTACH;FMTTYPE=image/png:https://www.senicagolf.com/wp-content/uploads/2021/05/senica-oak-ridge-upcoming-golf-outing-general.png
END:VEVENT
BEGIN:VEVENT
DTSTART;TZID=America/Toronto:20210602T160000
DTEND;TZID=America/Toronto:20210602T200000
DTSTAMP:20260419T090125
CREATED:20210512T162138Z
LAST-MODIFIED:20210512T212440Z
UID:10000502-1622649600-1622664000@www.senicagolf.com
SUMMARY:Taco and Chicken Wednesday
DESCRIPTION:Wednesday Taco and Chicken Night!
URL:https://www.senicagolf.com/event/taco-and-chicken-wednesday/2021-06-02/
LOCATION:Senica’s Oak Ridge
ATTACH;FMTTYPE=image/png:https://www.senicagolf.com/wp-content/uploads/2021/05/Taco-and-Chicken-Wednesday-Nights-senica-oak-ridge-blog.png
END:VEVENT
BEGIN:VEVENT
DTSTART;TZID=America/Toronto:20210526T160000
DTEND;TZID=America/Toronto:20210526T200000
DTSTAMP:20260419T090125
CREATED:20210512T162138Z
LAST-MODIFIED:20210512T212440Z
UID:10000501-1622044800-1622059200@www.senicagolf.com
SUMMARY:Taco and Chicken Wednesday
DESCRIPTION:Wednesday Taco and Chicken Night!
URL:https://www.senicagolf.com/event/taco-and-chicken-wednesday/2021-05-26/
LOCATION:Senica’s Oak Ridge
ATTACH;FMTTYPE=image/png:https://www.senicagolf.com/wp-content/uploads/2021/05/Taco-and-Chicken-Wednesday-Nights-senica-oak-ridge-blog.png
END:VEVENT
BEGIN:VEVENT
DTSTART;TZID=America/Toronto:20210522T130000
DTEND;TZID=America/Toronto:20210522T170000
DTSTAMP:20260419T090125
CREATED:20210511T181626Z
LAST-MODIFIED:20210511T181626Z
UID:10000477-1621688400-1621702800@www.senicagolf.com
SUMMARY:JJ outing*
DESCRIPTION:1pm Shotgun \n*Shotgun – Tee Times available before or after event depending on start time
URL:https://www.senicagolf.com/event/jj-outing/
LOCATION:Senica’s Oak Ridge
CATEGORIES:Oak Ridge
ATTACH;FMTTYPE=image/png:https://www.senicagolf.com/wp-content/uploads/2021/05/senica-oak-ridge-upcoming-golf-outing-general.png
END:VEVENT
BEGIN:VEVENT
DTSTART;TZID=America/Toronto:20210519T160000
DTEND;TZID=America/Toronto:20210519T200000
DTSTAMP:20260419T090125
CREATED:20210512T162138Z
LAST-MODIFIED:20210512T212440Z
UID:10000500-1621440000-1621454400@www.senicagolf.com
SUMMARY:Taco and Chicken Wednesday
DESCRIPTION:Wednesday Taco and Chicken Night!
URL:https://www.senicagolf.com/event/taco-and-chicken-wednesday/2021-05-19/
LOCATION:Senica’s Oak Ridge
ATTACH;FMTTYPE=image/png:https://www.senicagolf.com/wp-content/uploads/2021/05/Taco-and-Chicken-Wednesday-Nights-senica-oak-ridge-blog.png
END:VEVENT
BEGIN:VEVENT
DTSTART;TZID=America/Toronto:20210512T160000
DTEND;TZID=America/Toronto:20210512T200000
DTSTAMP:20260419T090125
CREATED:20210512T162138Z
LAST-MODIFIED:20210512T212440Z
UID:10000499-1620835200-1620849600@www.senicagolf.com
SUMMARY:Taco and Chicken Wednesday
DESCRIPTION:Wednesday Taco and Chicken Night!
URL:https://www.senicagolf.com/event/taco-and-chicken-wednesday/2021-05-12/
LOCATION:Senica’s Oak Ridge
ATTACH;FMTTYPE=image/png:https://www.senicagolf.com/wp-content/uploads/2021/05/Taco-and-Chicken-Wednesday-Nights-senica-oak-ridge-blog.png
END:VEVENT
BEGIN:VEVENT
DTSTART;VALUE=DATE:20201123
DTEND;VALUE=DATE:20201201
DTSTAMP:20260419T090125
CREATED:20201118T163330Z
LAST-MODIFIED:20201118T163330Z
UID:10000476-1606089600-1606780799@www.senicagolf.com
SUMMARY:Black Friday Sale
DESCRIPTION:Black Friday Sale ONLINE ONLY!\nSpecials will be available from November 23-30. \n➡️ SHOP ONLINE
URL:https://www.senicagolf.com/event/black-friday-sale/
LOCATION:Senica’s Oak Ridge
ATTACH;FMTTYPE=image/png:https://www.senicagolf.com/wp-content/uploads/2020/11/black-friday-fb-cover_-LP-Template-3-1-2.png
END:VEVENT
BEGIN:VEVENT
DTSTART;TZID=America/Toronto:20201107T100000
DTEND;TZID=America/Toronto:20201107T140000
DTSTAMP:20260419T090125
CREATED:20201030T170944Z
LAST-MODIFIED:20201105T133756Z
UID:10000475-1604743200-1604757600@www.senicagolf.com
SUMMARY:One Man Scramble
DESCRIPTION:Nov 7 | 10 am Shotgun | $10 for Members | $25 for non-members \nPlay your own ball scrambling to the hole. You have two options for every and putt: Hit the first ball – if you like it\, play it. If not hit again but he second ball will then have to be played
URL:https://www.senicagolf.com/event/one-man-scramble-2/
LOCATION:Senica’s Oak Ridge
CATEGORIES:Oak Ridge
ATTACH;FMTTYPE=image/png:https://www.senicagolf.com/wp-content/uploads/2020/10/senica-oak-ridge-_-one-man-scramble.png
END:VEVENT
BEGIN:VEVENT
DTSTART;TZID=America/Toronto:20201011T090000
DTEND;TZID=America/Toronto:20201011T130000
DTSTAMP:20260419T090125
CREATED:20200914T151201Z
LAST-MODIFIED:20200914T151201Z
UID:10000474-1602406800-1602421200@www.senicagolf.com
SUMMARY:Par Three Contest
DESCRIPTION:Stroke Play\nSunday\, October 11th – 9am Shotgun Start\n\nFood Provided After\nPrizes for Places & Games on Course\n(Pro Shop Credit/ Merchandise)\nOptional $5 Skins Game\nNon-Member $25
URL:https://www.senicagolf.com/event/par-three-contest/
LOCATION:Senica’s Oak Ridge
ATTACH;FMTTYPE=image/png:https://www.senicagolf.com/wp-content/uploads/2020/09/senica-oak-ridge-_-par-3.png
END:VEVENT
BEGIN:VEVENT
DTSTART;VALUE=DATE:20200907
DTEND;VALUE=DATE:20200908
DTSTAMP:20260419T090125
CREATED:20200707T145304Z
LAST-MODIFIED:20200707T150433Z
UID:10000466-1599436800-1599523199@www.senicagolf.com
SUMMARY:Oakridge Weekly Scramble
DESCRIPTION:$250 per team for 7 weeks\nSeptember 13 is final round \n\nRules:\nMake a tee time during the week\nGroup must include four people\nLimit one score per week\nAll putts to hole\nScorecard is signed and turned into Pro Sho\nWhite tees\n\nPrizes:\nWeekly prizes\nAll payouts will be Golf Shop Credit\n\nSign up in Pro Shop
URL:https://www.senicagolf.com/event/oakridge-weekly-scramble-8/
LOCATION:Senica’s Oak Ridge
CATEGORIES:Oak Ridge
ATTACH;FMTTYPE=image/png:https://www.senicagolf.com/wp-content/uploads/2020/07/1-1.png
END:VEVENT
BEGIN:VEVENT
DTSTART;VALUE=DATE:20200831
DTEND;VALUE=DATE:20200901
DTSTAMP:20260419T090125
CREATED:20200707T145304Z
LAST-MODIFIED:20200707T150344Z
UID:10000465-1598832000-1598918399@www.senicagolf.com
SUMMARY:Oakridge Weekly Scramble
DESCRIPTION:$250 per team for 7 weeks\nSeptember 13 is final round \n\nRules:\nMake a tee time during the week\nGroup must include four people\nLimit one score per week\nAll putts to hole\nScorecard is signed and turned into Pro Sho\nWhite tees\n\nPrizes:\nWeekly prizes\nAll payouts will be Golf Shop Credit\n\nSign up in Pro Shop
URL:https://www.senicagolf.com/event/oakridge-weekly-scramble-7/
LOCATION:Senica’s Oak Ridge
CATEGORIES:Oak Ridge
ATTACH;FMTTYPE=image/png:https://www.senicagolf.com/wp-content/uploads/2020/07/1-1.png
END:VEVENT
BEGIN:VEVENT
DTSTART;TZID=America/Toronto:20200828T170000
DTEND;TZID=America/Toronto:20200828T210000
DTSTAMP:20260419T090126
CREATED:20200707T150813Z
LAST-MODIFIED:20200707T152239Z
UID:10000473-1598634000-1598648400@www.senicagolf.com
SUMMARY:Couples Golf Night
DESCRIPTION:Friday Couples Night\n\nNine holes Drinks and Food after\n\n5pm\n\n\n\nCall to sign up
URL:https://www.senicagolf.com/event/couples-golf-night-7/
LOCATION:Senica’s Oak Ridge
CATEGORIES:Oak Ridge
ATTACH;FMTTYPE=image/png:https://www.senicagolf.com/wp-content/uploads/2020/07/1-31.png
END:VEVENT
BEGIN:VEVENT
DTSTART;VALUE=DATE:20200824
DTEND;VALUE=DATE:20200825
DTSTAMP:20260419T090126
CREATED:20200707T145304Z
LAST-MODIFIED:20200707T150317Z
UID:10000464-1598227200-1598313599@www.senicagolf.com
SUMMARY:Oakridge Weekly Scramble
DESCRIPTION:$250 per team for 7 weeks\nSeptember 13 is final round \n\nRules:\nMake a tee time during the week\nGroup must include four people\nLimit one score per week\nAll putts to hole\nScorecard is signed and turned into Pro Sho\nWhite tees\n\nPrizes:\nWeekly prizes\nAll payouts will be Golf Shop Credit\n\nSign up in Pro Shop
URL:https://www.senicagolf.com/event/oakridge-weekly-scramble-6/
LOCATION:Senica’s Oak Ridge
CATEGORIES:Oak Ridge
ATTACH;FMTTYPE=image/png:https://www.senicagolf.com/wp-content/uploads/2020/07/1-1.png
END:VEVENT
BEGIN:VEVENT
DTSTART;TZID=America/Toronto:20200821T170000
DTEND;TZID=America/Toronto:20200821T210000
DTSTAMP:20260419T090126
CREATED:20200707T150813Z
LAST-MODIFIED:20200707T152217Z
UID:10000472-1598029200-1598043600@www.senicagolf.com
SUMMARY:Couples Golf Night
DESCRIPTION:Friday Couples Night\n\nNine holes Drinks and Food after\n\n5pm\n\n\n\nCall to sign up
URL:https://www.senicagolf.com/event/couples-golf-night-6/
LOCATION:Senica’s Oak Ridge
CATEGORIES:Oak Ridge
ATTACH;FMTTYPE=image/png:https://www.senicagolf.com/wp-content/uploads/2020/07/1-31.png
END:VEVENT
BEGIN:VEVENT
DTSTART;VALUE=DATE:20200817
DTEND;VALUE=DATE:20200818
DTSTAMP:20260419T090126
CREATED:20200707T145304Z
LAST-MODIFIED:20200707T150243Z
UID:10000463-1597622400-1597708799@www.senicagolf.com
SUMMARY:Oakridge Weekly Scramble
DESCRIPTION:$250 per team for 7 weeks\nSeptember 13 is final round \n\nRules:\nMake a tee time during the week\nGroup must include four people\nLimit one score per week\nAll putts to hole\nScorecard is signed and turned into Pro Sho\nWhite tees\n\nPrizes:\nWeekly prizes\nAll payouts will be Golf Shop Credit\n\nSign up in Pro Shop
URL:https://www.senicagolf.com/event/oakridge-weekly-scramble-5/
LOCATION:Senica’s Oak Ridge
CATEGORIES:Oak Ridge
ATTACH;FMTTYPE=image/png:https://www.senicagolf.com/wp-content/uploads/2020/07/1-1.png
END:VEVENT
BEGIN:VEVENT
DTSTART;TZID=America/Toronto:20200814T170000
DTEND;TZID=America/Toronto:20200814T210000
DTSTAMP:20260419T090126
CREATED:20200707T150813Z
LAST-MODIFIED:20200707T152144Z
UID:10000471-1597424400-1597438800@www.senicagolf.com
SUMMARY:Couples Golf Night
DESCRIPTION:Friday Couples Night\n\nNine holes Drinks and Food after\n\n5pm\n\n\n\nCall to sign up
URL:https://www.senicagolf.com/event/couples-golf-night-5/
LOCATION:Senica’s Oak Ridge
CATEGORIES:Oak Ridge
ATTACH;FMTTYPE=image/png:https://www.senicagolf.com/wp-content/uploads/2020/07/1-31.png
END:VEVENT
BEGIN:VEVENT
DTSTART;VALUE=DATE:20200810
DTEND;VALUE=DATE:20200811
DTSTAMP:20260419T090126
CREATED:20200707T145304Z
LAST-MODIFIED:20200707T150206Z
UID:10000462-1597017600-1597103999@www.senicagolf.com
SUMMARY:Oakridge Weekly Scramble
DESCRIPTION:$250 per team for 7 weeks\nSeptember 13 is final round \n\nRules:\nMake a tee time during the week\nGroup must include four people\nLimit one score per week\nAll putts to hole\nScorecard is signed and turned into Pro Sho\nWhite tees\n\nPrizes:\nWeekly prizes\nAll payouts will be Golf Shop Credit\n\nSign up in Pro Shop
URL:https://www.senicagolf.com/event/oakridge-weekly-scramble-4/
LOCATION:Senica’s Oak Ridge
CATEGORIES:Oak Ridge
ATTACH;FMTTYPE=image/png:https://www.senicagolf.com/wp-content/uploads/2020/07/1-1.png
END:VEVENT
BEGIN:VEVENT
DTSTART;TZID=America/Toronto:20200807T170000
DTEND;TZID=America/Toronto:20200807T210000
DTSTAMP:20260419T090126
CREATED:20200707T150813Z
LAST-MODIFIED:20200707T152120Z
UID:10000470-1596819600-1596834000@www.senicagolf.com
SUMMARY:Couples Golf Night
DESCRIPTION:Friday Couples Night\n\nNine holes Drinks and Food after\n\n5pm\n\n\n\nCall to sign up
URL:https://www.senicagolf.com/event/couples-golf-night-4/
LOCATION:Senica’s Oak Ridge
CATEGORIES:Oak Ridge
ATTACH;FMTTYPE=image/png:https://www.senicagolf.com/wp-content/uploads/2020/07/1-31.png
END:VEVENT
BEGIN:VEVENT
DTSTART;VALUE=DATE:20200803
DTEND;VALUE=DATE:20200804
DTSTAMP:20260419T090126
CREATED:20200707T145304Z
LAST-MODIFIED:20200707T150113Z
UID:10000461-1596412800-1596499199@www.senicagolf.com
SUMMARY:Oakridge Weekly Scramble
DESCRIPTION:$250 per team for 7 weeks\nSeptember 13 is final round \n\nRules:\nMake a tee time during the week\nGroup must include four people\nLimit one score per week\nAll putts to hole\nScorecard is signed and turned into Pro Sho\nWhite tees\n\nPrizes:\nWeekly prizes\nAll payouts will be Golf Shop Credit\n\nSign up in Pro Shop
URL:https://www.senicagolf.com/event/oakridge-weekly-scramble-3/
LOCATION:Senica’s Oak Ridge
CATEGORIES:Oak Ridge
ATTACH;FMTTYPE=image/png:https://www.senicagolf.com/wp-content/uploads/2020/07/1-1.png
END:VEVENT
BEGIN:VEVENT
DTSTART;TZID=America/Toronto:20200731T170000
DTEND;TZID=America/Toronto:20200731T210000
DTSTAMP:20260419T090126
CREATED:20200707T150813Z
LAST-MODIFIED:20200707T151002Z
UID:10000469-1596214800-1596229200@www.senicagolf.com
SUMMARY:Couples Golf Night
DESCRIPTION:Friday Couples Night\n\nNine holes Drinks and Food after\n\n5pm\n\n\n\nCall to sign up
URL:https://www.senicagolf.com/event/couples-golf-night-3/
LOCATION:Senica’s Oak Ridge
CATEGORIES:Oak Ridge
ATTACH;FMTTYPE=image/png:https://www.senicagolf.com/wp-content/uploads/2020/07/1-31.png
END:VEVENT
BEGIN:VEVENT
DTSTART;VALUE=DATE:20200727
DTEND;VALUE=DATE:20200728
DTSTAMP:20260419T090126
CREATED:20200707T145304Z
LAST-MODIFIED:20200707T150051Z
UID:10000460-1595808000-1595894399@www.senicagolf.com
SUMMARY:Oakridge Weekly Scramble
DESCRIPTION:$250 per team for 7 weeks\nSeptember 13 is final round \n\nRules:\nMake a tee time during the week\nGroup must include four people\nLimit one score per week\nAll putts to hole\nScorecard is signed and turned into Pro Sho\nWhite tees\n\nPrizes:\nWeekly prizes\nAll payouts will be Golf Shop Credit\n\nSign up in Pro Shop
URL:https://www.senicagolf.com/event/oakridge-weekly-scramble-2/
LOCATION:Senica’s Oak Ridge
CATEGORIES:Oak Ridge
ATTACH;FMTTYPE=image/png:https://www.senicagolf.com/wp-content/uploads/2020/07/1-1.png
END:VEVENT
BEGIN:VEVENT
DTSTART;TZID=America/Toronto:20200724T170000
DTEND;TZID=America/Toronto:20200724T210000
DTSTAMP:20260419T090126
CREATED:20200707T150813Z
LAST-MODIFIED:20200707T150839Z
UID:10000468-1595610000-1595624400@www.senicagolf.com
SUMMARY:Couples Golf Night
DESCRIPTION:Friday Couples Night\n\nNine holes Drinks and Food after\n\n5pm\n\n\n\nCall to sign up
URL:https://www.senicagolf.com/event/couples-golf-night-2/
LOCATION:Senica’s Oak Ridge
CATEGORIES:Oak Ridge
ATTACH;FMTTYPE=image/png:https://www.senicagolf.com/wp-content/uploads/2020/07/1-31.png
END:VEVENT
BEGIN:VEVENT
DTSTART;VALUE=DATE:20200720
DTEND;VALUE=DATE:20200721
DTSTAMP:20260419T090126
CREATED:20200707T145304Z
LAST-MODIFIED:20200707T145842Z
UID:10000459-1595203200-1595289599@www.senicagolf.com
SUMMARY:Oakridge Weekly Scramble
DESCRIPTION:$250 per team for 7 weeks\nSeptember 13 is final round \n\nRules:\nMake a tee time during the week\nGroup must include four people\nLimit one score per week\nAll putts to hole\nScorecard is signed and turned into Pro Sho\nWhite tees\n\nPrizes:\nWeekly prizes\nAll payouts will be Golf Shop Credit\n\nSign up in Pro Shop
URL:https://www.senicagolf.com/event/oakridge-weekly-scramble/
LOCATION:Senica’s Oak Ridge
CATEGORIES:Oak Ridge
ATTACH;FMTTYPE=image/png:https://www.senicagolf.com/wp-content/uploads/2020/07/1-1.png
END:VEVENT
BEGIN:VEVENT
DTSTART;TZID=America/Toronto:20200717T170000
DTEND;TZID=America/Toronto:20200717T210000
DTSTAMP:20260419T090126
CREATED:20200707T150813Z
LAST-MODIFIED:20200707T150813Z
UID:10000467-1595005200-1595019600@www.senicagolf.com
SUMMARY:Couples Golf Night
DESCRIPTION:Friday Couples Night\n\nNine holes Drinks and Food after\n\nStarting July 17th – 5pm\n\n\n\nCall to sign up
URL:https://www.senicagolf.com/event/couples-golf-night/
LOCATION:Senica’s Oak Ridge
CATEGORIES:Oak Ridge
ATTACH;FMTTYPE=image/png:https://www.senicagolf.com/wp-content/uploads/2020/07/1-31.png
END:VEVENT
BEGIN:VEVENT
DTSTART;TZID=America/Toronto:20191129T000000
DTEND;TZID=America/Toronto:20191202T233000
DTSTAMP:20260419T090126
CREATED:20191101T192918Z
LAST-MODIFIED:20191101T192918Z
UID:10000458-1574985600-1575329400@www.senicagolf.com
SUMMARY:Black Friday
DESCRIPTION:It’s time to get excited about Black Friday at Senica! Memberships\, gift cards\, and MORE! Learn about all the details and be the first to know about everything Black Friday!\n\n\nCLICK HERE!
URL:https://www.senicagolf.com/event/black-friday/
ATTACH;FMTTYPE=image/png:https://www.senicagolf.com/wp-content/uploads/2019/11/Screen-Shot-2019-10-25-at-2.04.12-PM-e1572636515188.png
END:VEVENT
BEGIN:VEVENT
DTSTART;TZID=America/Toronto:20191020T110000
DTEND;TZID=America/Toronto:20191020T160000
DTSTAMP:20260419T090126
CREATED:20190923T211333Z
LAST-MODIFIED:20190924T150844Z
UID:10000457-1571569200-1571587200@www.senicagolf.com
SUMMARY:One Man Scramble
DESCRIPTION:One Man Scramble at Deer Park \nSunday\, October 20th @ 11am \n$15 Member / $40 Non-member entry fee \n18 holes play your own ball get two shots if you hit second you have to use that shot. \nCash prizes \nCall the pro shop to sign up today!
URL:https://www.senicagolf.com/event/one-man-scramble/
LOCATION:Senica’s Deer Park
CATEGORIES:Deer Park
ATTACH;FMTTYPE=image/png:https://www.senicagolf.com/wp-content/uploads/2019/09/senica-one-man-scramble-e1569273152262.png
END:VEVENT
BEGIN:VEVENT
DTSTART;TZID=America/Toronto:20191013T090000
DTEND;TZID=America/Toronto:20191013T140000
DTSTAMP:20260419T090126
CREATED:20190923T210935Z
LAST-MODIFIED:20190923T210935Z
UID:10000456-1570957200-1570975200@www.senicagolf.com
SUMMARY:Par 3 Contes
DESCRIPTION:Par 3 Contest at Oak Ridge\n\n\nSunday\, October 13th @ 9am\n\n\n$15 Member / $40 Non-member entry fee\n\n\nCash for winners & shop credit for other prizes!\n\n\nChili provided\n\n\nCall the pro shop to sign up today! (815) 223-7273
URL:https://www.senicagolf.com/event/par-3-contes/
LOCATION:Senica’s Oak Ridge
CATEGORIES:Oak Ridge
ATTACH;FMTTYPE=image/png:https://www.senicagolf.com/wp-content/uploads/2019/09/Senica-par-3-contest-e1569272915382.png
END:VEVENT
BEGIN:VEVENT
DTSTART;TZID=America/Toronto:20190930T080000
DTEND;TZID=America/Toronto:20190930T120000
DTSTAMP:20260419T090126
CREATED:20190410T193414Z
LAST-MODIFIED:20190410T193414Z
UID:10000435-1569830400-1569844800@www.senicagolf.com
SUMMARY:Southern Sr
DESCRIPTION:
URL:https://www.senicagolf.com/event/southern-sr-2/
CATEGORIES:Oak Ridge
END:VEVENT
BEGIN:VEVENT
DTSTART;TZID=America/Toronto:20190923T080000
DTEND;TZID=America/Toronto:20190923T120000
DTSTAMP:20260419T090126
CREATED:20190410T195038Z
LAST-MODIFIED:20190410T195038Z
UID:10000454-1569225600-1569240000@www.senicagolf.com
SUMMARY:Southern Sr.
DESCRIPTION:
URL:https://www.senicagolf.com/event/southern-sr-4/
CATEGORIES:Deer Park
END:VEVENT
BEGIN:VEVENT
DTSTART;VALUE=DATE:20190921
DTEND;VALUE=DATE:20190922
DTSTAMP:20260419T090126
CREATED:20190410T194953Z
LAST-MODIFIED:20190410T194953Z
UID:10000453-1569024000-1569110399@www.senicagolf.com
SUMMARY:Ivcc Invite
DESCRIPTION:
URL:https://www.senicagolf.com/event/ivcc-invite-3/
CATEGORIES:Deer Park
END:VEVENT
END:VCALENDAR